BEGIN:VCALENDAR
VERSION:2.0
PRODID:-//ChamberMaster//Event Calendar 2.0//EN
METHOD:PUBLISH
X-PUBLISHED-TTL:P3D
REFRESH-INTERVAL:P3D
CALSCALE:GREGORIAN
BEGIN:VEVENT
DTSTART:20170407T130000Z
DTEND:20170407T220000Z
X-MICROSOFT-CDO-ALLDAYEVENT:FALSE
SUMMARY:2017 Annual Clay Shoot
DESCRIPTION:2017 Annual Clay Shoot
X-ALT-DESC;FMTTYPE=text/html:2017 Annual Clay Shoot
LOCATION:Fossil Pointe Sporting Grounds 7282 N. FM 51 Decatur\, Texas 76234
UID:e.2458.191
SEQUENCE:3
DTSTAMP:20260423T071617Z
URL:http://springtownchamber.chambermaster.com/events/details/2017-annual-clay-shoot-191
END:VEVENT

END:VCALENDAR
